Workbook

Sheet Trabajadores
A1: Trabajador | B1: Departamento | C1: DNI / NIE | D1: Puesto | E1: Observaciones | G1: Sustituye los ejemplos por tus trabajadores, uno por fila.
A2: Juan García López | B2: OBRA | D2: Oficial 1ª
A3: María López Ruiz | B3: OFICINA | D3: Administración
A4: Carlos Ruiz Martín | B4: OBRA | D4: Peón especialista
A5: Ana Martín Gil | B5: MANTENIMIENTO | D5: Técnica de mantenimiento
A6: Pablo Sanz Vera | B6: OBRA | D6: Encargado

Sheet Documentos
A1: Trabajador | B1: Tipo de documento | C1: Fecha de emisión | D1: Validez (meses) | E1: Fecha de caducidad | F1: Días restantes | G1: Estado | H1: Dónde está el archivo | I1: Observaciones | J1: aux
A2: Juan García López | B2: Apto médico | C2: =TODAY()-200 -> 46096 | D2: =IF(B2="","",IFERROR(IF(VLOOKUP(B2,Configuración!$A$6:$B$15,2,FALSE)="","",VLOOKUP(B2,Configuración!$A$6:$B$15,2,FALSE)),"")) -> 12 | E2: =IF(OR(C2="",D2=""),"",EDATE(C2,D2)) -> 46461 | F2: =IF(E2="","",E2-TODAY()) -> 165 | G2: =IF(A2="","",IF(E2="","Sin caducidad",IF(F2<0,"Caducado",IF(F2<=Configuración!$B$2,"Por caducar","Vigente")))) -> Vigente | H2: Carpeta PRL / Juan García López | J2: =IF(E2="",0,E2) -> 46461
A3: Juan García López | B3: Formación PRL del puesto (art. 19) | C3: =TODAY()-400 -> 45896 | D3: =IF(B3="","",IFERROR(IF(VLOOKUP(B3,Configuración!$A$6:$B$15,2,FALSE)="","",VLOOKUP(B3,Configuración!$A$6:$B$15,2,FALSE)),"")) | E3: =IF(OR(C3="",D3=""),"",EDATE(C3,D3)) | F3: =IF(E3="","",E3-TODAY()) | G3: =IF(A3="","",IF(E3="","Sin caducidad",IF(F3<0,"Caducado",IF(F3<=Configuración!$B$2,"Por caducar","Vigente")))) -> Sin caducidad | J3: =IF(E3="",0,E3) -> 0
A4: Juan García López | B4: Información de riesgos (art. 18) | C4: =TODAY()-400 -> 45896 | D4: =IF(B4="","",IFERROR(IF(VLOOKUP(B4,Configuración!$A$6:$B$15,2,FALSE)="","",VLOOKUP(B4,Configuración!$A$6:$B$15,2,FALSE)),"")) | E4: =IF(OR(C4="",D4=""),"",EDATE(C4,D4)) | F4: =IF(E4="","",E4-TODAY()) | G4: =IF(A4="","",IF(E4="","Sin caducidad",IF(F4<0,"Caducado",IF(F4<=Configuración!$B$2,"Por caducar","Vigente")))) -> Sin caducidad | J4: =IF(E4="",0,E4) -> 0
A5: Juan García López | B5: TPC (construcción) | C5: =TODAY()-1790 -> 44506 | D5: =IF(B5="","",IFERROR(IF(VLOOKUP(B5,Configuración!$A$6:$B$15,2,FALSE)="","",VLOOKUP(B5,Configuración!$A$6:$B$15,2,FALSE)),"")) -> 60 | E5: =IF(OR(C5="",D5=""),"",EDATE(C5,D5)) -> 46332 | F5: =IF(E5="","",E5-TODAY()) -> 36 | G5: =IF(A5="","",IF(E5="","Sin caducidad",IF(F5<0,"Caducado",IF(F5<=Configuración!$B$2,"Por caducar","Vigente")))) -> Por caducar | H5: Carpeta PRL / Juan García López | J5: =IF(E5="",0,E5) -> 46332
A6: Juan García López | B6: Entrega de EPIs (recibí) | C6: =TODAY()-100 -> 46196 | D6: =IF(B6="","",IFERROR(IF(VLOOKUP(B6,Configuración!$A$6:$B$15,2,FALSE)="","",VLOOKUP(B6,Configuración!$A$6:$B$15,2,FALSE)),"")) | E6: =IF(OR(C6="",D6=""),"",EDATE(C6,D6)) | F6: =IF(E6="","",E6-TODAY()) | G6: =IF(A6="","",IF(E6="","Sin caducidad",IF(F6<0,"Caducado",IF(F6<=Configuración!$B$2,"Por caducar","Vigente")))) -> Sin caducidad | J6: =IF(E6="",0,E6) -> 0
A7: Juan García López | B7: DNI / NIE | D7: =IF(B7="","",IFERROR(IF(VLOOKUP(B7,Configuración!$A$6:$B$15,2,FALSE)="","",VLOOKUP(B7,Configuración!$A$6:$B$15,2,FALSE)),"")) | E7: =TODAY()+900 -> 47196 | F7: =IF(E7="","",E7-TODAY()) -> 900 | G7: =IF(A7="","",IF(E7="","Sin caducidad",IF(F7<0,"Caducado",IF(F7<=Configuración!$B$2,"Por caducar","Vigente")))) -> Vigente | J7: =IF(E7="",0,E7) -> 47196
A8: María López Ruiz | B8: Apto médico | C8: =TODAY()-380 -> 45916 | D8: =IF(B8="","",IFERROR(IF(VLOOKUP(B8,Configuración!$A$6:$B$15,2,FALSE)="","",VLOOKUP(B8,Configuración!$A$6:$B$15,2,FALSE)),"")) -> 12 | E8: =IF(OR(C8="",D8=""),"",EDATE(C8,D8)) -> 46281 | F8: =IF(E8="","",E8-TODAY()) -> -15 | G8: =IF(A8="","",IF(E8="","Sin caducidad",IF(F8<0,"Caducado",IF(F8<=Configuración!$B$2,"Por caducar","Vigente")))) -> Caducado | H8: Carpeta PRL / María López Ruiz | J8: =IF(E8="",0,E8) -> 46281
A9: María López Ruiz | B9: Formación PRL del puesto (art. 19) | C9: =TODAY()-500 -> 45796 | D9: =IF(B9="","",IFERROR(IF(VLOOKUP(B9,Configuración!$A$6:$B$15,2,FALSE)="","",VLOOKUP(B9,Configuración!$A$6:$B$15,2,FALSE)),"")) | E9: =IF(OR(C9="",D9=""),"",EDATE(C9,D9)) | F9: =IF(E9="","",E9-TODAY()) | G9: =IF(A9="","",IF(E9="","Sin caducidad",IF(F9<0,"Caducado",IF(F9<=Configuración!$B$2,"Por caducar","Vigente")))) -> Sin caducidad | J9: =IF(E9="",0,E9) -> 0
A10: María López Ruiz | B10: Información de riesgos (art. 18) | C10: =TODAY()-500 -> 45796 | D10: =IF(B10="","",IFERROR(IF(VLOOKUP(B10,Configuración!$A$6:$B$15,2,FALSE)="","",VLOOKUP(B10,Configuración!$A$6:$B$15,2,FALSE)),"")) | E10: =IF(OR(C10="",D10=""),"",EDATE(C10,D10)) | F10: =IF(E10="","",E10-TODAY()) | G10: =IF(A10="","",IF(E10="","Sin caducidad",IF(F10<0,"Caducado",IF(F10<=Configuración!$B$2,"Por caducar","Vigente")))) -> Sin caducidad | J10: =IF(E10="",0,E10) -> 0
A11: Carlos Ruiz Martín | B11: Apto médico | C11: =TODAY()-320 -> 45976 | D11: =IF(B11="","",IFERROR(IF(VLOOKUP(B11,Configuración!$A$6:$B$15,2,FALSE)="","",VLOOKUP(B11,Configuración!$A$6:$B$15,2,FALSE)),"")) -> 12 | E11: =IF(OR(C11="",D11=""),"",EDATE(C11,D11)) -> 46341 | F11: =IF(E11="","",E11-TODAY()) -> 45 | G11: =IF(A11="","",IF(E11="","Sin caducidad",IF(F11<0,"Caducado",IF(F11<=Configuración!$B$2,"Por caducar","Vigente")))) -> Por caducar | H11: Carpeta PRL / Carlos Ruiz Martín | J11: =IF(E11="",0,E11) -> 46341
A12: Carlos Ruiz Martín | B12: TPC (construcción) | C12: =TODAY()-600 -> 45696 | D12: =IF(B12="","",IFERROR(IF(VLOOKUP(B12,Configuración!$A$6:$B$15,2,FALSE)="","",VLOOKUP(B12,Configuración!$A$6:$B$15,2,FALSE)),"")) -> 60 | E12: =IF(OR(C12="",D12=""),"",EDATE(C12,D12)) -> 47522 | F12: =IF(E12="","",E12-TODAY()) -> 1226 | G12: =IF(A12="","",IF(E12="","Sin caducidad",IF(F12<0,"Caducado",IF(F12<=Configuración!$B$2,"Por caducar","Vigente")))) -> Vigente | J12: =IF(E12="",0,E12) -> 47522
A13: Carlos Ruiz Martín | B13: Trabajos en altura | C13: =TODAY()-250 -> 46046 | D13: =IF(B13="","",IFERROR(IF(VLOOKUP(B13,Configuración!$A$6:$B$15,2,FALSE)="","",VLOOKUP(B13,Configuración!$A$6:$B$15,2,FALSE)),"")) | E13: =IF(OR(C13="",D13=""),"",EDATE(C13,D13)) | F13: =IF(E13="","",E13-TODAY()) | G13: =IF(A13="","",IF(E13="","Sin caducidad",IF(F13<0,"Caducado",IF(F13<=Configuración!$B$2,"Por caducar","Vigente")))) -> Sin caducidad | J13: =IF(E13="",0,E13) -> 0
A14: Carlos Ruiz Martín | B14: Entrega de EPIs (recibí) | C14: =TODAY()-60 -> 46236 | D14: =IF(B14="","",IFERROR(IF(VLOOKUP(B14,Configuración!$A$6:$B$15,2,FALSE)="","",VLOOKUP(B14,Configuración!$A$6:$B$15,2,FALSE)),"")) | E14: =IF(OR(C14="",D14=""),"",EDATE(C14,D14)) | F14: =IF(E14="","",E14-TODAY()) | G14: =IF(A14="","",IF(E14="","Sin caducidad",IF(F14<0,"Caducado",IF(F14<=Configuración!$B$2,"Por caducar","Vigente")))) -> Sin caducidad | H14: Carpeta PRL / Carlos Ruiz Martín | J14: =IF(E14="",0,E14) -> 0
A15: Ana Martín Gil | B15: Apto médico | C15: =TODAY()-100 -> 46196 | D15: =IF(B15="","",IFERROR(IF(VLOOKUP(B15,Configuración!$A$6:$B$15,2,FALSE)="","",VLOOKUP(B15,Configuración!$A$6:$B$15,2,FALSE)),"")) -> 12 | E15: =IF(OR(C15="",D15=""),"",EDATE(C15,D15)) -> 46561 | F15: =IF(E15="","",E15-TODAY()) -> 265 | G15: =IF(A15="","",IF(E15="","Sin caducidad",IF(F15<0,"Caducado",IF(F15<=Configuración!$B$2,"Por caducar","Vigente")))) -> Vigente | J15: =IF(E15="",0,E15) -> 46561
A16: Ana Martín Gil | B16: Formación PRL del puesto (art. 19) | C16: =TODAY()-150 -> 46146 | D16: =IF(B16="","",IFERROR(IF(VLOOKUP(B16,Configuración!$A$6:$B$15,2,FALSE)="","",VLOOKUP(B16,Configuración!$A$6:$B$15,2,FALSE)),"")) | E16: =IF(OR(C16="",D16=""),"",EDATE(C16,D16)) | F16: =IF(E16="","",E16-TODAY()) | G16: =IF(A16="","",IF(E16="","Sin caducidad",IF(F16<0,"Caducado",IF(F16<=Configuración!$B$2,"Por caducar","Vigente")))) -> Sin caducidad | J16: =IF(E16="",0,E16) -> 0
A17: Ana Martín Gil | B17: Información de riesgos (art. 18) | C17: =TODAY()-150 -> 46146 | D17: =IF(B17="","",IFERROR(IF(VLOOKUP(B17,Configuración!$A$6:$B$15,2,FALSE)="","",VLOOKUP(B17,Configuración!$A$6:$B$15,2,FALSE)),"")) | E17: =IF(OR(C17="",D17=""),"",EDATE(C17,D17)) | F17: =IF(E17="","",E17-TODAY()) | G17: =IF(A17="","",IF(E17="","Sin caducidad",IF(F17<0,"Caducado",IF(F17<=Configuración!$B$2,"Por caducar","Vigente")))) -> Sin caducidad | H17: Carpeta PRL / Ana Martín Gil | J17: =IF(E17="",0,E17) -> 0
A18: Ana Martín Gil | B18: Entrega de EPIs (recibí) | C18: =TODAY()-90 -> 46206 | D18: =IF(B18="","",IFERROR(IF(VLOOKUP(B18,Configuración!$A$6:$B$15,2,FALSE)="","",VLOOKUP(B18,Configuración!$A$6:$B$15,2,FALSE)),"")) | E18: =IF(OR(C18="",D18=""),"",EDATE(C18,D18)) | F18: =IF(E18="","",E18-TODAY()) | G18: =IF(A18="","",IF(E18="","Sin caducidad",IF(F18<0,"Caducado",IF(F18<=Configuración!$B$2,"Por caducar","Vigente")))) -> Sin caducidad | J18: =IF(E18="",0,E18) -> 0
A19: Ana Martín Gil | B19: DNI / NIE | D19: =IF(B19="","",IFERROR(IF(VLOOKUP(B19,Configuración!$A$6:$B$15,2,FALSE)="","",VLOOKUP(B19,Configuración!$A$6:$B$15,2,FALSE)),"")) | E19: =TODAY()+1500 -> 47796 | F19: =IF(E19="","",E19-TODAY()) -> 1500 | G19: =IF(A19="","",IF(E19="","Sin caducidad",IF(F19<0,"Caducado",IF(F19<=Configuración!$B$2,"Por caducar","Vigente")))) -> Vigente | J19: =IF(E19="",0,E19) -> 47796
A20: Ana Martín Gil | B20: PEMP / carretillas | C20: =TODAY()-300 -> 45996 | D20: =IF(B20="","",IFERROR(IF(VLOOKUP(B20,Configuración!$A$6:$B$15,2,FALSE)="","",VLOOKUP(B20,Configuración!$A$6:$B$15,2,FALSE)),"")) | E20: =IF(OR(C20="",D20=""),"",EDATE(C20,D20)) | F20: =IF(E20="","",E20-TODAY()) | G20: =IF(A20="","",IF(E20="","Sin caducidad",IF(F20<0,"Caducado",IF(F20<=Configuración!$B$2,"Por caducar","Vigente")))) -> Sin caducidad | H20: Carpeta PRL / Ana Martín Gil | J20: =IF(E20="",0,E20) -> 0
A21: Pablo Sanz Vera | B21: Apto médico | C21: =TODAY()-30 -> 46266 | D21: =IF(B21="","",IFERROR(IF(VLOOKUP(B21,Configuración!$A$6:$B$15,2,FALSE)="","",VLOOKUP(B21,Configuración!$A$6:$B$15,2,FALSE)),"")) -> 12 | E21: =IF(OR(C21="",D21=""),"",EDATE(C21,D21)) -> 46631 | F21: =IF(E21="","",E21-TODAY()) -> 335 | G21: =IF(A21="","",IF(E21="","Sin caducidad",IF(F21<0,"Caducado",IF(F21<=Configuración!$B$2,"Por caducar","Vigente")))) -> Vigente | J21: =IF(E21="",0,E21) -> 46631
A22: Pablo Sanz Vera | B22: TPC (construcción) | C22: =TODAY()-1900 -> 44396 | D22: =IF(B22="","",IFERROR(IF(VLOOKUP(B22,Configuración!$A$6:$B$15,2,FALSE)="","",VLOOKUP(B22,Configuración!$A$6:$B$15,2,FALSE)),"")) -> 60 | E22: =IF(OR(C22="",D22=""),"",EDATE(C22,D22)) -> 46222 | F22: =IF(E22="","",E22-TODAY()) -> -74 | G22: =IF(A22="","",IF(E22="","Sin caducidad",IF(F22<0,"Caducado",IF(F22<=Configuración!$B$2,"Por caducar","Vigente")))) -> Caducado | J22: =IF(E22="",0,E22) -> 46222
A23: Pablo Sanz Vera | B23: Formación PRL del puesto (art. 19) | C23: =TODAY()-700 -> 45596 | D23: =IF(B23="","",IFERROR(IF(VLOOKUP(B23,Configuración!$A$6:$B$15,2,FALSE)="","",VLOOKUP(B23,Configuración!$A$6:$B$15,2,FALSE)),"")) | E23: =IF(OR(C23="",D23=""),"",EDATE(C23,D23)) | F23: =IF(E23="","",E23-TODAY()) | G23: =IF(A23="","",IF(E23="","Sin caducidad",IF(F23<0,"Caducado",IF(F23<=Configuración!$B$2,"Por caducar","Vigente")))) -> Sin caducidad | H23: Carpeta PRL / Pablo Sanz Vera | J23: =IF(E23="",0,E23) -> 0
A24: Pablo Sanz Vera | B24: Información de riesgos (art. 18) | C24: =TODAY()-700 -> 45596 | D24: =IF(B24="","",IFERROR(IF(VLOOKUP(B24,Configuración!$A$6:$B$15,2,FALSE)="","",VLOOKUP(B24,Configuración!$A$6:$B$15,2,FALSE)),"")) | E24: =IF(OR(C24="",D24=""),"",EDATE(C24,D24)) | F24: =IF(E24="","",E24-TODAY()) | G24: =IF(A24="","",IF(E24="","Sin caducidad",IF(F24<0,"Caducado",IF(F24<=Configuración!$B$2,"Por caducar","Vigente")))) -> Sin caducidad | J24: =IF(E24="",0,E24) -> 0
A25: Pablo Sanz Vera | B25: Entrega de EPIs (recibí) | C25: =TODAY()-20 -> 46276 | D25: =IF(B25="","",IFERROR(IF(VLOOKUP(B25,Configuración!$A$6:$B$15,2,FALSE)="","",VLOOKUP(B25,Configuración!$A$6:$B$15,2,FALSE)),"")) | E25: =IF(OR(C25="",D25=""),"",EDATE(C25,D25)) | F25: =IF(E25="","",E25-TODAY()) | G25: =IF(A25="","",IF(E25="","Sin caducidad",IF(F25<0,"Caducado",IF(F25<=Configuración!$B$2,"Por caducar","Vigente")))) -> Sin caducidad | J25: =IF(E25="",0,E25) -> 0
A26: Pablo Sanz Vera | B26: DNI / NIE | D26: =IF(B26="","",IFERROR(IF(VLOOKUP(B26,Configuración!$A$6:$B$15,2,FALSE)="","",VLOOKUP(B26,Configuración!$A$6:$B$15,2,FALSE)),"")) | E26: =TODAY()+400 -> 46696 | F26: =IF(E26="","",E26-TODAY()) -> 400 | G26: =IF(A26="","",IF(E26="","Sin caducidad",IF(F26<0,"Caducado",IF(F26<=Configuración!$B$2,"Por caducar","Vigente")))) -> Vigente | H26: Carpeta PRL / Pablo Sanz Vera | J26: =IF(E26="",0,E26) -> 46696
D27: =IF(B27="","",IFERROR(IF(VLOOKUP(B27,Configuración!$A$6:$B$15,2,FALSE)="","",VLOOKUP(B27,Configuración!$A$6:$B$15,2,FALSE)),"")) | E27: =IF(OR(C27="",D27=""),"",EDATE(C27,D27)) | F27: =IF(E27="","",E27-TODAY()) | G27: =IF(A27="","",IF(E27="","Sin caducidad",IF(F27<0,"Caducado",IF(F27<=Configuración!$B$2,"Por caducar","Vigente")))) | J27: =IF(E27="",0,E27) -> 0
D28: =IF(B28="","",IFERROR(IF(VLOOKUP(B28,Configuración!$A$6:$B$15,2,FALSE)="","",VLOOKUP(B28,Configuración!$A$6:$B$15,2,FALSE)),"")) | E28: =IF(OR(C28="",D28=""),"",EDATE(C28,D28)) | F28: =IF(E28="","",E28-TODAY()) | G28: =IF(A28="","",IF(E28="","Sin caducidad",IF(F28<0,"Caducado",IF(F28<=Configuración!$B$2,"Por caducar","Vigente")))) | J28: =IF(E28="",0,E28) -> 0
D29: =IF(B29="","",IFERROR(IF(VLOOKUP(B29,Configuración!$A$6:$B$15,2,FALSE)="","",VLOOKUP(B29,Configuración!$A$6:$B$15,2,FALSE)),"")) | E29: =IF(OR(C29="",D29=""),"",EDATE(C29,D29)) | F29: =IF(E29="","",E29-TODAY()) | G29: =IF(A29="","",IF(E29="","Sin caducidad",IF(F29<0,"Caducado",IF(F29<=Configuración!$B$2,"Por caducar","Vigente")))) | J29: =IF(E29="",0,E29) -> 0
D30: =IF(B30="","",IFERROR(IF(VLOOKUP(B30,Configuración!$A$6:$B$15,2,FALSE)="","",VLOOKUP(B30,Configuración!$A$6:$B$15,2,FALSE)),"")) | E30: =IF(OR(C30="",D30=""),"",EDATE(C30,D30)) | F30: =IF(E30="","",E30-TODAY()) | G30: =IF(A30="","",IF(E30="","Sin caducidad",IF(F30<0,"Caducado",IF(F30<=Configuración!$B$2,"Por caducar","Vigente")))) | J30: =IF(E30="",0,E30) -> 0
D31: =IF(B31="","",IFERROR(IF(VLOOKUP(B31,Configuración!$A$6:$B$15,2,FALSE)="","",VLOOKUP(B31,Configuración!$A$6:$B$15,2,FALSE)),"")) | E31: =IF(OR(C31="",D31=""),"",EDATE(C31,D31)) | F31: =IF(E31="","",E31-TODAY()) | G31: =IF(A31="","",IF(E31="","Sin caducidad",IF(F31<0,"Caducado",IF(F31<=Configuración!$B$2,"Por caducar","Vigente")))) | J31: =IF(E31="",0,E31) -> 0
D32: =IF(B32="","",IFERROR(IF(VLOOKUP(B32,Configuración!$A$6:$B$15,2,FALSE)="","",VLOOKUP(B32,Configuración!$A$6:$B$15,2,FALSE)),"")) | E32: =IF(OR(C32="",D32=""),"",EDATE(C32,D32)) | F32: =IF(E32="","",E32-TODAY()) | G32: =IF(A32="","",IF(E32="","Sin caducidad",IF(F32<0,"Caducado",IF(F32<=Configuración!$B$2,"Por caducar","Vigente")))) | J32: =IF(E32="",0,E32) -> 0
D33: =IF(B33="","",IFERROR(IF(VLOOKUP(B33,Configuración!$A$6:$B$15,2,FALSE)="","",VLOOKUP(B33,Configuración!$A$6:$B$15,2,FALSE)),"")) | E33: =IF(OR(C33="",D33=""),"",EDATE(C33,D33)) | F33: =IF(E33="","",E33-TODAY()) | G33: =IF(A33="","",IF(E33="","Sin caducidad",IF(F33<0,"Caducado",IF(F33<=Configuración!$B$2,"Por caducar","Vigente")))) | J33: =IF(E33="",0,E33) -> 0
D34: =IF(B34="","",IFERROR(IF(VLOOKUP(B34,Configuración!$A$6:$B$15,2,FALSE)="","",VLOOKUP(B34,Configuración!$A$6:$B$15,2,FALSE)),"")) | E34: =IF(OR(C34="",D34=""),"",EDATE(C34,D34)) | F34: =IF(E34="","",E34-TODAY()) | G34: =IF(A34="","",IF(E34="","Sin caducidad",IF(F34<0,"Caducado",IF(F34<=Configuración!$B$2,"Por caducar","Vigente")))) | J34: =IF(E34="",0,E34) -> 0
D35: =IF(B35="","",IFERROR(IF(VLOOKUP(B35,Configuración!$A$6:$B$15,2,FALSE)="","",VLOOKUP(B35,Configuración!$A$6:$B$15,2,FALSE)),"")) | E35: =IF(OR(C35="",D35=""),"",EDATE(C35,D35)) | F35: =IF(E35="","",E35-TODAY()) | G35: =IF(A35="","",IF(E35="","Sin caducidad",IF(F35<0,"Caducado",IF(F35<=Configuración!$B$2,"Por caducar","Vigente")))) | J35: =IF(E35="",0,E35) -> 0
D36: =IF(B36="","",IFERROR(IF(VLOOKUP(B36,Configuración!$A$6:$B$15,2,FALSE)="","",VLOOKUP(B36,Configuración!$A$6:$B$15,2,FALSE)),"")) | E36: =IF(OR(C36="",D36=""),"",EDATE(C36,D36)) | F36: =IF(E36="","",E36-TODAY()) | G36: =IF(A36="","",IF(E36="","Sin caducidad",IF(F36<0,"Caducado",IF(F36<=Configuración!$B$2,"Por caducar","Vigente")))) | J36: =IF(E36="",0,E36) -> 0
D37: =IF(B37="","",IFERROR(IF(VLOOKUP(B37,Configuración!$A$6:$B$15,2,FALSE)="","",VLOOKUP(B37,Configuración!$A$6:$B$15,2,FALSE)),"")) | E37: =IF(OR(C37="",D37=""),"",EDATE(C37,D37)) | F37: =IF(E37="","",E37-TODAY()) | G37: =IF(A37="","",IF(E37="","Sin caducidad",IF(F37<0,"Caducado",IF(F37<=Configuración!$B$2,"Por caducar","Vigente")))) | J37: =IF(E37="",0,E37) -> 0
D38: =IF(B38="","",IFERROR(IF(VLOOKUP(B38,Configuración!$A$6:$B$15,2,FALSE)="","",VLOOKUP(B38,Configuración!$A$6:$B$15,2,FALSE)),"")) | E38: =IF(OR(C38="",D38=""),"",EDATE(C38,D38)) | F38: =IF(E38="","",E38-TODAY()) | G38: =IF(A38="","",IF(E38="","Sin caducidad",IF(F38<0,"Caducado",IF(F38<=Configuración!$B$2,"Por caducar","Vigente")))) | J38: =IF(E38="",0,E38) -> 0
... D601: =IF(B601="","",IFERROR(IF(VLOOKUP(B601,Configuración!$A$6:$B$15,2,FALSE)="","",VLOOKUP(B601,Configuración!$A$6:$B$15,2,FALSE)),"")) | E601: =IF(OR(C601="",D601=""),"",EDATE(C601,D601)) | F601: =IF(E601="","",E601-TODAY()) | G601: =IF(A601="","",IF(E601="","Sin caducidad",IF(F601<0,"Caducado",IF(F601<=Configuración!$B$2,"Por caducar","Vigente")))) | J601: =IF(E601="",0,E601) -> 0

Sheet Semáforo
A1: Semáforo de documentación PRL por trabajador
A2: ="Caducados: "&COUNTIF(Documentos!$G$2:$G$601,"Caducado")&" · Por caducar: "&COUNTIF(Documentos!$G$2:$G$601,"Por caducar")&" · Vigentes: "&COUNTIF(Documentos!$G$2:$G$601,"Vigente")&" (se rellena solo desde la hoja Documentos)" -> Caducados: 2 · Por caducar: 2 · Vigentes: 7 (se rellena solo desde la hoja Documentos)
A4: Trabajador | B4: =IF(Configuración!$A$6="","",Configuración!$A$6) -> Apto médico | C4: =IF(Configuración!$A$7="","",Configuración!$A$7) -> Formación PRL del puesto (art. 19) | D4: =IF(Configuración!$A$8="","",Configuración!$A$8) -> Información de riesgos (art. 18) | E4: =IF(Configuración!$A$9="","",Configuración!$A$9) -> Entrega de EPIs (recibí) | F4: =IF(Configuración!$A$10="","",Configuración!$A$10) -> DNI / NIE | G4: =IF(Configuración!$A$11="","",Configuración!$A$11) -> TPC (construcción) | H4: =IF(Configuración!$A$12="","",Configuración!$A$12) -> Trabajos en altura | I4: =IF(Configuración!$A$13="","",Configuración!$A$13) -> PEMP / carretillas | J4: =IF(Configuración!$A$14="","",Configuración!$A$14) -> CAP conductores | K4: =IF(Configuración!$A$15="","",Configuración!$A$15) -> Permiso de conducir
A5: =IF(Trabajadores!A2="","",Trabajadores!A2) -> Juan García López | B5: =IF(OR($A5="",B$4=""),"",IF(COUNTIFS(Documentos!$A$2:$A$601,$A5,Documentos!$B$2:$B$601,B$4)=0,"—",IF(SUMPRODUCT(MAX((Documentos!$A$2:$A$601=$A5)*(Documentos!$B$2:$B$601=B$4)*Documentos!$J$2:$J$601))=0,"OK",IF(SUMPRODUCT(MAX((Documentos!$A$2:$A$601=$A5)*(Documentos!$B$2:$B$601=B$4)*Documentos!$J$2:$J$601))<TODAY(),"CAD",IF(SUMPRODUCT(MAX((Documentos!$A$2:$A$601=$A5)*(Documentos!$B$2:$B$601=B$4)*Documentos!$J$2:$J$601))-TODAY()<=Configuración!$B$2,(SUMPRODUCT(MAX((Documentos!$A$2:$A$601=$A5)*(Documentos!$B$2:$B$601=B$4)*Documentos!$J$2:$J$601))-TODAY())&" d","OK"))))) -> OK | C5: =IF(OR($A5="",C$4=""),"",IF(COUNTIFS(Documentos!$A$2:$A$601,$A5,Documentos!$B$2:$B$601,C$4)=0,"—",IF(SUMPRODUCT(MAX((Documentos!$A$2:$A$601=$A5)*(Documentos!$B$2:$B$601=C$4)*Documentos!$J$2:$J$601))=0,"OK",IF(SUMPRODUCT(MAX((Documentos!$A$2:$A$601=$A5)*(Documentos!$B$2:$B$601=C$4)*Documentos!$J$2:$J$601))<TODAY(),"CAD",IF(SUMPRODUCT(MAX((Documentos!$A$2:$A$601=$A5)*(Documentos!$B$2:$B$601=C$4)*Documentos!$J$2:$J$601))-TODAY()<=Configuración!$B$2,(SUMPRODUCT(MAX((Documentos!$A$2:$A$601=$A5)*(Documentos!$B$2:$B$601=C$4)*Documentos!$J$2:$J$601))-TODAY())&" d","OK"))))) -> OK | D5: =IF(OR($A5="",D$4=""),"",IF(COUNTIFS(Documentos!$A$2:$A$601,$A5,Documentos!$B$2:$B$601,D$4)=0,"—",IF(SUMPRODUCT(MAX((Documentos!$A$2:$A$601=$A5)*(Documentos!$B$2:$B$601=D$4)*Documentos!$J$2:$J$601))=0,"OK",IF(SUMPRODUCT(MAX((Documentos!$A$2:$A$601=$A5)*(Documentos!$B$2:$B$601=D$4)*Documentos!$J$2:$J$601))<TODAY(),"CAD",IF(SUMPRODUCT(MAX((Documentos!$A$2:$A$601=$A5)*(Documentos!$B$2:$B$601=D$4)*Documentos!$J$2:$J$601))-TODAY()<=Configuración!$B$2,(SUMPRODUCT(MAX((Documentos!$A$2:$A$601=$A5)*(Documentos!$B$2:$B$601=D$4)*Documentos!$J$2:$J$601))-TODAY())&" d","OK"))))) -> OK | E5: =IF(OR($A5="",E$4=""),"",IF(COUNTIFS(Documentos!$A$2:$A$601,$A5,Documentos!$B$2:$B$601,E$4)=0,"—",IF(SUMPRODUCT(MAX((Documentos!$A$2:$A$601=$A5)*(Documentos!$B$2:$B$601=E$4)*Documentos!$J$2:$J$601))=0,"OK",IF(SUMPRODUCT(MAX((Documentos!$A$2:$A$601=$A5)*(Documentos!$B$2:$B$601=E$4)*Documentos!$J$2:$J$601))<TODAY(),"CAD",IF(SUMPRODUCT(MAX((Documentos!$A$2:$A$601=$A5)*(Documentos!$B$2:$B$601=E$4)*Documentos!$J$2:$J$601))-TODAY()<=Configuración!$B$2,(SUMPRODUCT(MAX((Documentos!$A$2:$A$601=$A5)*(Documentos!$B$2:$B$601=E$4)*Documentos!$J$2:$J$601))-TODAY())&" d","OK"))))) -> OK | F5: =IF(OR($A5="",F$4=""),"",IF(COUNTIFS(Documentos!$A$2:$A$601,$A5,Documentos!$B$2:$B$601,F$4)=0,"—",IF(SUMPRODUCT(MAX((Documentos!$A$2:$A$601=$A5)*(Documentos!$B$2:$B$601=F$4)*Documentos!$J$2:$J$601))=0,"OK",IF(SUMPRODUCT(MAX((Documentos!$A$2:$A$601=$A5)*(Documentos!$B$2:$B$601=F$4)*Documentos!$J$2:$J$601))<TODAY(),"CAD",IF(SUMPRODUCT(MAX((Documentos!$A$2:$A$601=$A5)*(Documentos!$B$2:$B$601=F$4)*Documentos!$J$2:$J$601))-TODAY()<=Configuración!$B$2,(SUMPRODUCT(MAX((Documentos!$A$2:$A$601=$A5)*(Documentos!$B$2:$B$601=F$4)*Documentos!$J$2:$J$601))-TODAY())&" d","OK"))))) -> OK | G5: =IF(OR($A5="",G$4=""),"",IF(COUNTIFS(Documentos!$A$2:$A$601,$A5,Documentos!$B$2:$B$601,G$4)=0,"—",IF(SUMPRODUCT(MAX((Documentos!$A$2:$A$601=$A5)*(Documentos!$B$2:$B$601=G$4)*Documentos!$J$2:$J$601))=0,"OK",IF(SUMPRODUCT(MAX((Documentos!$A$2:$A$601=$A5)*(Documentos!$B$2:$B$601=G$4)*Documentos!$J$2:$J$601))<TODAY(),"CAD",IF(SUMPRODUCT(MAX((Documentos!$A$2:$A$601=$A5)*(Documentos!$B$2:$B$601=G$4)*Documentos!$J$2:$J$601))-TODAY()<=Configuración!$B$2,(SUMPRODUCT(MAX((Documentos!$A$2:$A$601=$A5)*(Documentos!$B$2:$B$601=G$4)*Documentos!$J$2:$J$601))-TODAY())&" d","OK"))))) -> 36 d | H5: =IF(OR($A5="",H$4=""),"",IF(COUNTIFS(Documentos!$A$2:$A$601,$A5,Documentos!$B$2:$B$601,H$4)=0,"—",IF(SUMPRODUCT(MAX((Documentos!$A$2:$A$601=$A5)*(Documentos!$B$2:$B$601=H$4)*Documentos!$J$2:$J$601))=0,"OK",IF(SUMPRODUCT(MAX((Documentos!$A$2:$A$601=$A5)*(Documentos!$B$2:$B$601=H$4)*Documentos!$J$2:$J$601))<TODAY(),"CAD",IF(SUMPRODUCT(MAX((Documentos!$A$2:$A$601=$A5)*(Documentos!$B$2:$B$601=H$4)*Documentos!$J$2:$J$601))-TODAY()<=Configuración!$B$2,(SUMPRODUCT(MAX((Documentos!$A$2:$A$601=$A5)*(Documentos!$B$2:$B$601=H$4)*Documentos!$J$2:$J$601))-TODAY())&" d","OK"))))) -> — | I5: =IF(OR($A5="",I$4=""),"",IF(COUNTIFS(Documentos!$A$2:$A$601,$A5,Documentos!$B$2:$B$601,I$4)=0,"—",IF(SUMPRODUCT(MAX((Documentos!$A$2:$A$601=$A5)*(Documentos!$B$2:$B$601=I$4)*Documentos!$J$2:$J$601))=0,"OK",IF(SUMPRODUCT(MAX((Documentos!$A$2:$A$601=$A5)*(Documentos!$B$2:$B$601=I$4)*Documentos!$J$2:$J$601))<TODAY(),"CAD",IF(SUMPRODUCT(MAX((Documentos!$A$2:$A$601=$A5)*(Documentos!$B$2:$B$601=I$4)*Documentos!$J$2:$J$601))-TODAY()<=Configuración!$B$2,(SUMPRODUCT(MAX((Documentos!$A$2:$A$601=$A5)*(Documentos!$B$2:$B$601=I$4)*Documentos!$J$2:$J$601))-TODAY())&" d","OK"))))) -> — | ... K5: =IF(OR($A5="",K$4=""),"",IF(COUNTIFS(Documentos!$A$2:$A$601,$A5,Documentos!$B$2:$B$601,K$4)=0,"—",IF(SUMPRODUCT(MAX((Documentos!$A$2:$A$601=$A5)*(Documentos!$B$2:$B$601=K$4)*Documentos!$J$2:$J$601))=0,"OK",IF(SUMPRODUCT(MAX((Documentos!$A$2:$A$601=$A5)*(Documentos!$B$2:$B$601=K$4)*Documentos!$J$2:$J$601))<TODAY(),"CAD",IF(SUMPRODUCT(MAX((Documentos!$A$2:$A$601=$A5)*(Documentos!$B$2:$B$601=K$4)*Documentos!$J$2:$J$601))-TODAY()<=Configuración!$B$2,(SUMPRODUCT(MAX((Documentos!$A$2:$A$601=$A5)*(Documentos!$B$2:$B$601=K$4)*Documentos!$J$2:$J$601))-TODAY())&" d","OK"))))) -> —
A6: =IF(Trabajadores!A3="","",Trabajadores!A3) -> María López Ruiz | B6: =IF(OR($A6="",B$4=""),"",IF(COUNTIFS(Documentos!$A$2:$A$601,$A6,Documentos!$B$2:$B$601,B$4)=0,"—",IF(SUMPRODUCT(MAX((Documentos!$A$2:$A$601=$A6)*(Documentos!$B$2:$B$601=B$4)*Documentos!$J$2:$J$601))=0,"OK",IF(SUMPRODUCT(MAX((Documentos!$A$2:$A$601=$A6)*(Documentos!$B$2:$B$601=B$4)*Documentos!$J$2:$J$601))<TODAY(),"CAD",IF(SUMPRODUCT(MAX((Documentos!$A$2:$A$601=$A6)*(Documentos!$B$2:$B$601=B$4)*Documentos!$J$2:$J$601))-TODAY()<=Configuración!$B$2,(SUMPRODUCT(MAX((Documentos!$A$2:$A$601=$A6)*(Documentos!$B$2:$B$601=B$4)*Documentos!$J$2:$J$601))-TODAY())&" d","OK"))))) -> CAD | C6: =IF(OR($A6="",C$4=""),"",IF(COUNTIFS(Documentos!$A$2:$A$601,$A6,Documentos!$B$2:$B$601,C$4)=0,"—",IF(SUMPRODUCT(MAX((Documentos!$A$2:$A$601=$A6)*(Documentos!$B$2:$B$601=C$4)*Documentos!$J$2:$J$601))=0,"OK",IF(SUMPRODUCT(MAX((Documentos!$A$2:$A$601=$A6)*(Documentos!$B$2:$B$601=C$4)*Documentos!$J$2:$J$601))<TODAY(),"CAD",IF(SUMPRODUCT(MAX((Documentos!$A$2:$A$601=$A6)*(Documentos!$B$2:$B$601=C$4)*Documentos!$J$2:$J$601))-TODAY()<=Configuración!$B$2,(SUMPRODUCT(MAX((Documentos!$A$2:$A$601=$A6)*(Documentos!$B$2:$B$601=C$4)*Documentos!$J$2:$J$601))-TODAY())&" d","OK"))))) -> OK | D6: =IF(OR($A6="",D$4=""),"",IF(COUNTIFS(Documentos!$A$2:$A$601,$A6,Documentos!$B$2:$B$601,D$4)=0,"—",IF(SUMPRODUCT(MAX((Documentos!$A$2:$A$601=$A6)*(Documentos!$B$2:$B$601=D$4)*Documentos!$J$2:$J$601))=0,"OK",IF(SUMPRODUCT(MAX((Documentos!$A$2:$A$601=$A6)*(Documentos!$B$2:$B$601=D$4)*Documentos!$J$2:$J$601))<TODAY(),"CAD",IF(SUMPRODUCT(MAX((Documentos!$A$2:$A$601=$A6)*(Documentos!$B$2:$B$601=D$4)*Documentos!$J$2:$J$601))-TODAY()<=Configuración!$B$2,(SUMPRODUCT(MAX((Documentos!$A$2:$A$601=$A6)*(Documentos!$B$2:$B$601=D$4)*Documentos!$J$2:$J$601))-TODAY())&" d","OK"))))) -> OK | E6: =IF(OR($A6="",E$4=""),"",IF(COUNTIFS(Documentos!$A$2:$A$601,$A6,Documentos!$B$2:$B$601,E$4)=0,"—",IF(SUMPRODUCT(MAX((Documentos!$A$2:$A$601=$A6)*(Documentos!$B$2:$B$601=E$4)*Documentos!$J$2:$J$601))=0,"OK",IF(SUMPRODUCT(MAX((Documentos!$A$2:$A$601=$A6)*(Documentos!$B$2:$B$601=E$4)*Documentos!$J$2:$J$601))<TODAY(),"CAD",IF(SUMPRODUCT(MAX((Documentos!$A$2:$A$601=$A6)*(Documentos!$B$2:$B$601=E$4)*Documentos!$J$2:$J$601))-TODAY()<=Configuración!$B$2,(SUMPRODUCT(MAX((Documentos!$A$2:$A$601=$A6)*(Documentos!$B$2:$B$601=E$4)*Documentos!$J$2:$J$601))-TODAY())&" d","OK"))))) -> — | F6: =IF(OR($A6="",F$4=""),"",IF(COUNTIFS(Documentos!$A$2:$A$601,$A6,Documentos!$B$2:$B$601,F$4)=0,"—",IF(SUMPRODUCT(MAX((Documentos!$A$2:$A$601=$A6)*(Documentos!$B$2:$B$601=F$4)*Documentos!$J$2:$J$601))=0,"OK",IF(SUMPRODUCT(MAX((Documentos!$A$2:$A$601=$A6)*(Documentos!$B$2:$B$601=F$4)*Documentos!$J$2:$J$601))<TODAY(),"CAD",IF(SUMPRODUCT(MAX((Documentos!$A$2:$A$601=$A6)*(Documentos!$B$2:$B$601=F$4)*Documentos!$J$2:$J$601))-TODAY()<=Configuración!$B$2,(SUMPRODUCT(MAX((Documentos!$A$2:$A$601=$A6)*(Documentos!$B$2:$B$601=F$4)*Documentos!$J$2:$J$601))-TODAY())&" d","OK"))))) -> — | G6: =IF(OR($A6="",G$4=""),"",IF(COUNTIFS(Documentos!$A$2:$A$601,$A6,Documentos!$B$2:$B$601,G$4)=0,"—",IF(SUMPRODUCT(MAX((Documentos!$A$2:$A$601=$A6)*(Documentos!$B$2:$B$601=G$4)*Documentos!$J$2:$J$601))=0,"OK",IF(SUMPRODUCT(MAX((Documentos!$A$2:$A$601=$A6)*(Documentos!$B$2:$B$601=G$4)*Documentos!$J$2:$J$601))<TODAY(),"CAD",IF(SUMPRODUCT(MAX((Documentos!$A$2:$A$601=$A6)*(Documentos!$B$2:$B$601=G$4)*Documentos!$J$2:$J$601))-TODAY()<=Configuración!$B$2,(SUMPRODUCT(MAX((Documentos!$A$2:$A$601=$A6)*(Documentos!$B$2:$B$601=G$4)*Documentos!$J$2:$J$601))-TODAY())&" d","OK"))))) -> — | H6: =IF(OR($A6="",H$4=""),"",IF(COUNTIFS(Documentos!$A$2:$A$601,$A6,Documentos!$B$2:$B$601,H$4)=0,"—",IF(SUMPRODUCT(MAX((Documentos!$A$2:$A$601=$A6)*(Documentos!$B$2:$B$601=H$4)*Documentos!$J$2:$J$601))=0,"OK",IF(SUMPRODUCT(MAX((Documentos!$A$2:$A$601=$A6)*(Documentos!$B$2:$B$601=H$4)*Documentos!$J$2:$J$601))<TODAY(),"CAD",IF(SUMPRODUCT(MAX((Documentos!$A$2:$A$601=$A6)*(Documentos!$B$2:$B$601=H$4)*Documentos!$J$2:$J$601))-TODAY()<=Configuración!$B$2,(SUMPRODUCT(MAX((Documentos!$A$2:$A$601=$A6)*(Documentos!$B$2:$B$601=H$4)*Documentos!$J$2:$J$601))-TODAY())&" d","OK"))))) -> — | I6: =IF(OR($A6="",I$4=""),"",IF(COUNTIFS(Documentos!$A$2:$A$601,$A6,Documentos!$B$2:$B$601,I$4)=0,"—",IF(SUMPRODUCT(MAX((Documentos!$A$2:$A$601=$A6)*(Documentos!$B$2:$B$601=I$4)*Documentos!$J$2:$J$601))=0,"OK",IF(SUMPRODUCT(MAX((Documentos!$A$2:$A$601=$A6)*(Documentos!$B$2:$B$601=I$4)*Documentos!$J$2:$J$601))<TODAY(),"CAD",IF(SUMPRODUCT(MAX((Documentos!$A$2:$A$601=$A6)*(Documentos!$B$2:$B$601=I$4)*Documentos!$J$2:$J$601))-TODAY()<=Configuración!$B$2,(SUMPRODUCT(MAX((Documentos!$A$2:$A$601=$A6)*(Documentos!$B$2:$B$601=I$4)*Documentos!$J$2:$J$601))-TODAY())&" d","OK"))))) -> — | ... K6: =IF(OR($A6="",K$4=""),"",IF(COUNTIFS(Documentos!$A$2:$A$601,$A6,Documentos!$B$2:$B$601,K$4)=0,"—",IF(SUMPRODUCT(MAX((Documentos!$A$2:$A$601=$A6)*(Documentos!$B$2:$B$601=K$4)*Documentos!$J$2:$J$601))=0,"OK",IF(SUMPRODUCT(MAX((Documentos!$A$2:$A$601=$A6)*(Documentos!$B$2:$B$601=K$4)*Documentos!$J$2:$J$601))<TODAY(),"CAD",IF(SUMPRODUCT(MAX((Documentos!$A$2:$A$601=$A6)*(Documentos!$B$2:$B$601=K$4)*Documentos!$J$2:$J$601))-TODAY()<=Configuración!$B$2,(SUMPRODUCT(MAX((Documentos!$A$2:$A$601=$A6)*(Documentos!$B$2:$B$601=K$4)*Documentos!$J$2:$J$601))-TODAY())&" d","OK"))))) -> —
A7: =IF(Trabajadores!A4="","",Trabajadores!A4) -> Carlos Ruiz Martín | B7: =IF(OR($A7="",B$4=""),"",IF(COUNTIFS(Documentos!$A$2:$A$601,$A7,Documentos!$B$2:$B$601,B$4)=0,"—",IF(SUMPRODUCT(MAX((Documentos!$A$2:$A$601=$A7)*(Documentos!$B$2:$B$601=B$4)*Documentos!$J$2:$J$601))=0,"OK",IF(SUMPRODUCT(MAX((Documentos!$A$2:$A$601=$A7)*(Documentos!$B$2:$B$601=B$4)*Documentos!$J$2:$J$601))<TODAY(),"CAD",IF(SUMPRODUCT(MAX((Documentos!$A$2:$A$601=$A7)*(Documentos!$B$2:$B$601=B$4)*Documentos!$J$2:$J$601))-TODAY()<=Configuración!$B$2,(SUMPRODUCT(MAX((Documentos!$A$2:$A$601=$A7)*(Documentos!$B$2:$B$601=B$4)*Documentos!$J$2:$J$601))-TODAY())&" d","OK"))))) -> 45 d | C7: =IF(OR($A7="",C$4=""),"",IF(COUNTIFS(Documentos!$A$2:$A$601,$A7,Documentos!$B$2:$B$601,C$4)=0,"—",IF(SUMPRODUCT(MAX((Documentos!$A$2:$A$601=$A7)*(Documentos!$B$2:$B$601=C$4)*Documentos!$J$2:$J$601))=0,"OK",IF(SUMPRODUCT(MAX((Documentos!$A$2:$A$601=$A7)*(Documentos!$B$2:$B$601=C$4)*Documentos!$J$2:$J$601))<TODAY(),"CAD",IF(SUMPRODUCT(MAX((Documentos!$A$2:$A$601=$A7)*(Documentos!$B$2:$B$601=C$4)*Documentos!$J$2:$J$601))-TODAY()<=Configuración!$B$2,(SUMPRODUCT(MAX((Documentos!$A$2:$A$601=$A7)*(Documentos!$B$2:$B$601=C$4)*Documentos!$J$2:$J$601))-TODAY())&" d","OK"))))) -> — | D7: =IF(OR($A7="",D$4=""),"",IF(COUNTIFS(Documentos!$A$2:$A$601,$A7,Documentos!$B$2:$B$601,D$4)=0,"—",IF(SUMPRODUCT(MAX((Documentos!$A$2:$A$601=$A7)*(Documentos!$B$2:$B$601=D$4)*Documentos!$J$2:$J$601))=0,"OK",IF(SUMPRODUCT(MAX((Documentos!$A$2:$A$601=$A7)*(Documentos!$B$2:$B$601=D$4)*Documentos!$J$2:$J$601))<TODAY(),"CAD",IF(SUMPRODUCT(MAX((Documentos!$A$2:$A$601=$A7)*(Documentos!$B$2:$B$601=D$4)*Documentos!$J$2:$J$601))-TODAY()<=Configuración!$B$2,(SUMPRODUCT(MAX((Documentos!$A$2:$A$601=$A7)*(Documentos!$B$2:$B$601=D$4)*Documentos!$J$2:$J$601))-TODAY())&" d","OK"))))) -> — | E7: =IF(OR($A7="",E$4=""),"",IF(COUNTIFS(Documentos!$A$2:$A$601,$A7,Documentos!$B$2:$B$601,E$4)=0,"—",IF(SUMPRODUCT(MAX((Documentos!$A$2:$A$601=$A7)*(Documentos!$B$2:$B$601=E$4)*Documentos!$J$2:$J$601))=0,"OK",IF(SUMPRODUCT(MAX((Documentos!$A$2:$A$601=$A7)*(Documentos!$B$2:$B$601=E$4)*Documentos!$J$2:$J$601))<TODAY(),"CAD",IF(SUMPRODUCT(MAX((Documentos!$A$2:$A$601=$A7)*(Documentos!$B$2:$B$601=E$4)*Documentos!$J$2:$J$601))-TODAY()<=Configuración!$B$2,(SUMPRODUCT(MAX((Documentos!$A$2:$A$601=$A7)*(Documentos!$B$2:$B$601=E$4)*Documentos!$J$2:$J$601))-TODAY())&" d","OK"))))) -> OK | F7: =IF(OR($A7="",F$4=""),"",IF(COUNTIFS(Documentos!$A$2:$A$601,$A7,Documentos!$B$2:$B$601,F$4)=0,"—",IF(SUMPRODUCT(MAX((Documentos!$A$2:$A$601=$A7)*(Documentos!$B$2:$B$601=F$4)*Documentos!$J$2:$J$601))=0,"OK",IF(SUMPRODUCT(MAX((Documentos!$A$2:$A$601=$A7)*(Documentos!$B$2:$B$601=F$4)*Documentos!$J$2:$J$601))<TODAY(),"CAD",IF(SUMPRODUCT(MAX((Documentos!$A$2:$A$601=$A7)*(Documentos!$B$2:$B$601=F$4)*Documentos!$J$2:$J$601))-TODAY()<=Configuración!$B$2,(SUMPRODUCT(MAX((Documentos!$A$2:$A$601=$A7)*(Documentos!$B$2:$B$601=F$4)*Documentos!$J$2:$J$601))-TODAY())&" d","OK"))))) -> — | G7: =IF(OR($A7="",G$4=""),"",IF(COUNTIFS(Documentos!$A$2:$A$601,$A7,Documentos!$B$2:$B$601,G$4)=0,"—",IF(SUMPRODUCT(MAX((Documentos!$A$2:$A$601=$A7)*(Documentos!$B$2:$B$601=G$4)*Documentos!$J$2:$J$601))=0,"OK",IF(SUMPRODUCT(MAX((Documentos!$A$2:$A$601=$A7)*(Documentos!$B$2:$B$601=G$4)*Documentos!$J$2:$J$601))<TODAY(),"CAD",IF(SUMPRODUCT(MAX((Documentos!$A$2:$A$601=$A7)*(Documentos!$B$2:$B$601=G$4)*Documentos!$J$2:$J$601))-TODAY()<=Configuración!$B$2,(SUMPRODUCT(MAX((Documentos!$A$2:$A$601=$A7)*(Documentos!$B$2:$B$601=G$4)*Documentos!$J$2:$J$601))-TODAY())&" d","OK"))))) -> OK | H7: =IF(OR($A7="",H$4=""),"",IF(COUNTIFS(Documentos!$A$2:$A$601,$A7,Documentos!$B$2:$B$601,H$4)=0,"—",IF(SUMPRODUCT(MAX((Documentos!$A$2:$A$601=$A7)*(Documentos!$B$2:$B$601=H$4)*Documentos!$J$2:$J$601))=0,"OK",IF(SUMPRODUCT(MAX((Documentos!$A$2:$A$601=$A7)*(Documentos!$B$2:$B$601=H$4)*Documentos!$J$2:$J$601))<TODAY(),"CAD",IF(SUMPRODUCT(MAX((Documentos!$A$2:$A$601=$A7)*(Documentos!$B$2:$B$601=H$4)*Documentos!$J$2:$J$601))-TODAY()<=Configuración!$B$2,(SUMPRODUCT(MAX((Documentos!$A$2:$A$601=$A7)*(Documentos!$B$2:$B$601=H$4)*Documentos!$J$2:$J$601))-TODAY())&" d","OK"))))) -> OK | I7: =IF(OR($A7="",I$4=""),"",IF(COUNTIFS(Documentos!$A$2:$A$601,$A7,Documentos!$B$2:$B$601,I$4)=0,"—",IF(SUMPRODUCT(MAX((Documentos!$A$2:$A$601=$A7)*(Documentos!$B$2:$B$601=I$4)*Documentos!$J$2:$J$601))=0,"OK",IF(SUMPRODUCT(MAX((Documentos!$A$2:$A$601=$A7)*(Documentos!$B$2:$B$601=I$4)*Documentos!$J$2:$J$601))<TODAY(),"CAD",IF(SUMPRODUCT(MAX((Documentos!$A$2:$A$601=$A7)*(Documentos!$B$2:$B$601=I$4)*Documentos!$J$2:$J$601))-TODAY()<=Configuración!$B$2,(SUMPRODUCT(MAX((Documentos!$A$2:$A$601=$A7)*(Documentos!$B$2:$B$601=I$4)*Documentos!$J$2:$J$601))-TODAY())&" d","OK"))))) -> — | ... K7: =IF(OR($A7="",K$4=""),"",IF(COUNTIFS(Documentos!$A$2:$A$601,$A7,Documentos!$B$2:$B$601,K$4)=0,"—",IF(SUMPRODUCT(MAX((Documentos!$A$2:$A$601=$A7)*(Documentos!$B$2:$B$601=K$4)*Documentos!$J$2:$J$601))=0,"OK",IF(SUMPRODUCT(MAX((Documentos!$A$2:$A$601=$A7)*(Documentos!$B$2:$B$601=K$4)*Documentos!$J$2:$J$601))<TODAY(),"CAD",IF(SUMPRODUCT(MAX((Documentos!$A$2:$A$601=$A7)*(Documentos!$B$2:$B$601=K$4)*Documentos!$J$2:$J$601))-TODAY()<=Configuración!$B$2,(SUMPRODUCT(MAX((Documentos!$A$2:$A$601=$A7)*(Documentos!$B$2:$B$601=K$4)*Documentos!$J$2:$J$601))-TODAY())&" d","OK"))))) -> —
A8: =IF(Trabajadores!A5="","",Trabajadores!A5) -> Ana Martín Gil | B8: =IF(OR($A8="",B$4=""),"",IF(COUNTIFS(Documentos!$A$2:$A$601,$A8,Documentos!$B$2:$B$601,B$4)=0,"—",IF(SUMPRODUCT(MAX((Documentos!$A$2:$A$601=$A8)*(Documentos!$B$2:$B$601=B$4)*Documentos!$J$2:$J$601))=0,"OK",IF(SUMPRODUCT(MAX((Documentos!$A$2:$A$601=$A8)*(Documentos!$B$2:$B$601=B$4)*Documentos!$J$2:$J$601))<TODAY(),"CAD",IF(SUMPRODUCT(MAX((Documentos!$A$2:$A$601=$A8)*(Documentos!$B$2:$B$601=B$4)*Documentos!$J$2:$J$601))-TODAY()<=Configuración!$B$2,(SUMPRODUCT(MAX((Documentos!$A$2:$A$601=$A8)*(Documentos!$B$2:$B$601=B$4)*Documentos!$J$2:$J$601))-TODAY())&" d","OK"))))) -> OK | C8: =IF(OR($A8="",C$4=""),"",IF(COUNTIFS(Documentos!$A$2:$A$601,$A8,Documentos!$B$2:$B$601,C$4)=0,"—",IF(SUMPRODUCT(MAX((Documentos!$A$2:$A$601=$A8)*(Documentos!$B$2:$B$601=C$4)*Documentos!$J$2:$J$601))=0,"OK",IF(SUMPRODUCT(MAX((Documentos!$A$2:$A$601=$A8)*(Documentos!$B$2:$B$601=C$4)*Documentos!$J$2:$J$601))<TODAY(),"CAD",IF(SUMPRODUCT(MAX((Documentos!$A$2:$A$601=$A8)*(Documentos!$B$2:$B$601=C$4)*Documentos!$J$2:$J$601))-TODAY()<=Configuración!$B$2,(SUMPRODUCT(MAX((Documentos!$A$2:$A$601=$A8)*(Documentos!$B$2:$B$601=C$4)*Documentos!$J$2:$J$601))-TODAY())&" d","OK"))))) -> OK | D8: =IF(OR($A8="",D$4=""),"",IF(COUNTIFS(Documentos!$A$2:$A$601,$A8,Documentos!$B$2:$B$601,D$4)=0,"—",IF(SUMPRODUCT(MAX((Documentos!$A$2:$A$601=$A8)*(Documentos!$B$2:$B$601=D$4)*Documentos!$J$2:$J$601))=0,"OK",IF(SUMPRODUCT(MAX((Documentos!$A$2:$A$601=$A8)*(Documentos!$B$2:$B$601=D$4)*Documentos!$J$2:$J$601))<TODAY(),"CAD",IF(SUMPRODUCT(MAX((Documentos!$A$2:$A$601=$A8)*(Documentos!$B$2:$B$601=D$4)*Documentos!$J$2:$J$601))-TODAY()<=Configuración!$B$2,(SUMPRODUCT(MAX((Documentos!$A$2:$A$601=$A8)*(Documentos!$B$2:$B$601=D$4)*Documentos!$J$2:$J$601))-TODAY())&" d","OK"))))) -> OK | E8: =IF(OR($A8="",E$4=""),"",IF(COUNTIFS(Documentos!$A$2:$A$601,$A8,Documentos!$B$2:$B$601,E$4)=0,"—",IF(SUMPRODUCT(MAX((Documentos!$A$2:$A$601=$A8)*(Documentos!$B$2:$B$601=E$4)*Documentos!$J$2:$J$601))=0,"OK",IF(SUMPRODUCT(MAX((Documentos!$A$2:$A$601=$A8)*(Documentos!$B$2:$B$601=E$4)*Documentos!$J$2:$J$601))<TODAY(),"CAD",IF(SUMPRODUCT(MAX((Documentos!$A$2:$A$601=$A8)*(Documentos!$B$2:$B$601=E$4)*Documentos!$J$2:$J$601))-TODAY()<=Configuración!$B$2,(SUMPRODUCT(MAX((Documentos!$A$2:$A$601=$A8)*(Documentos!$B$2:$B$601=E$4)*Documentos!$J$2:$J$601))-TODAY())&" d","OK"))))) -> OK | F8: =IF(OR($A8="",F$4=""),"",IF(COUNTIFS(Documentos!$A$2:$A$601,$A8,Documentos!$B$2:$B$601,F$4)=0,"—",IF(SUMPRODUCT(MAX((Documentos!$A$2:$A$601=$A8)*(Documentos!$B$2:$B$601=F$4)*Documentos!$J$2:$J$601))=0,"OK",IF(SUMPRODUCT(MAX((Documentos!$A$2:$A$601=$A8)*(Documentos!$B$2:$B$601=F$4)*Documentos!$J$2:$J$601))<TODAY(),"CAD",IF(SUMPRODUCT(MAX((Documentos!$A$2:$A$601=$A8)*(Documentos!$B$2:$B$601=F$4)*Documentos!$J$2:$J$601))-TODAY()<=Configuración!$B$2,(SUMPRODUCT(MAX((Documentos!$A$2:$A$601=$A8)*(Documentos!$B$2:$B$601=F$4)*Documentos!$J$2:$J$601))-TODAY())&" d","OK"))))) -> OK | G8: =IF(OR($A8="",G$4=""),"",IF(COUNTIFS(Documentos!$A$2:$A$601,$A8,Documentos!$B$2:$B$601,G$4)=0,"—",IF(SUMPRODUCT(MAX((Documentos!$A$2:$A$601=$A8)*(Documentos!$B$2:$B$601=G$4)*Documentos!$J$2:$J$601))=0,"OK",IF(SUMPRODUCT(MAX((Documentos!$A$2:$A$601=$A8)*(Documentos!$B$2:$B$601=G$4)*Documentos!$J$2:$J$601))<TODAY(),"CAD",IF(SUMPRODUCT(MAX((Documentos!$A$2:$A$601=$A8)*(Documentos!$B$2:$B$601=G$4)*Documentos!$J$2:$J$601))-TODAY()<=Configuración!$B$2,(SUMPRODUCT(MAX((Documentos!$A$2:$A$601=$A8)*(Documentos!$B$2:$B$601=G$4)*Documentos!$J$2:$J$601))-TODAY())&" d","OK"))))) -> — | H8: =IF(OR($A8="",H$4=""),"",IF(COUNTIFS(Documentos!$A$2:$A$601,$A8,Documentos!$B$2:$B$601,H$4)=0,"—",IF(SUMPRODUCT(MAX((Documentos!$A$2:$A$601=$A8)*(Documentos!$B$2:$B$601=H$4)*Documentos!$J$2:$J$601))=0,"OK",IF(SUMPRODUCT(MAX((Documentos!$A$2:$A$601=$A8)*(Documentos!$B$2:$B$601=H$4)*Documentos!$J$2:$J$601))<TODAY(),"CAD",IF(SUMPRODUCT(MAX((Documentos!$A$2:$A$601=$A8)*(Documentos!$B$2:$B$601=H$4)*Documentos!$J$2:$J$601))-TODAY()<=Configuración!$B$2,(SUMPRODUCT(MAX((Documentos!$A$2:$A$601=$A8)*(Documentos!$B$2:$B$601=H$4)*Documentos!$J$2:$J$601))-TODAY())&" d","OK"))))) -> — | I8: =IF(OR($A8="",I$4=""),"",IF(COUNTIFS(Documentos!$A$2:$A$601,$A8,Documentos!$B$2:$B$601,I$4)=0,"—",IF(SUMPRODUCT(MAX((Documentos!$A$2:$A$601=$A8)*(Documentos!$B$2:$B$601=I$4)*Documentos!$J$2:$J$601))=0,"OK",IF(SUMPRODUCT(MAX((Documentos!$A$2:$A$601=$A8)*(Documentos!$B$2:$B$601=I$4)*Documentos!$J$2:$J$601))<TODAY(),"CAD",IF(SUMPRODUCT(MAX((Documentos!$A$2:$A$601=$A8)*(Documentos!$B$2:$B$601=I$4)*Documentos!$J$2:$J$601))-TODAY()<=Configuración!$B$2,(SUMPRODUCT(MAX((Documentos!$A$2:$A$601=$A8)*(Documentos!$B$2:$B$601=I$4)*Documentos!$J$2:$J$601))-TODAY())&" d","OK"))))) -> OK | ... K8: =IF(OR($A8="",K$4=""),"",IF(COUNTIFS(Documentos!$A$2:$A$601,$A8,Documentos!$B$2:$B$601,K$4)=0,"—",IF(SUMPRODUCT(MAX((Documentos!$A$2:$A$601=$A8)*(Documentos!$B$2:$B$601=K$4)*Documentos!$J$2:$J$601))=0,"OK",IF(SUMPRODUCT(MAX((Documentos!$A$2:$A$601=$A8)*(Documentos!$B$2:$B$601=K$4)*Documentos!$J$2:$J$601))<TODAY(),"CAD",IF(SUMPRODUCT(MAX((Documentos!$A$2:$A$601=$A8)*(Documentos!$B$2:$B$601=K$4)*Documentos!$J$2:$J$601))-TODAY()<=Configuración!$B$2,(SUMPRODUCT(MAX((Documentos!$A$2:$A$601=$A8)*(Documentos!$B$2:$B$601=K$4)*Documentos!$J$2:$J$601))-TODAY())&" d","OK"))))) -> —
A9: =IF(Trabajadores!A6="","",Trabajadores!A6) -> Pablo Sanz Vera | B9: =IF(OR($A9="",B$4=""),"",IF(COUNTIFS(Documentos!$A$2:$A$601,$A9,Documentos!$B$2:$B$601,B$4)=0,"—",IF(SUMPRODUCT(MAX((Documentos!$A$2:$A$601=$A9)*(Documentos!$B$2:$B$601=B$4)*Documentos!$J$2:$J$601))=0,"OK",IF(SUMPRODUCT(MAX((Documentos!$A$2:$A$601=$A9)*(Documentos!$B$2:$B$601=B$4)*Documentos!$J$2:$J$601))<TODAY(),"CAD",IF(SUMPRODUCT(MAX((Documentos!$A$2:$A$601=$A9)*(Documentos!$B$2:$B$601=B$4)*Documentos!$J$2:$J$601))-TODAY()<=Configuración!$B$2,(SUMPRODUCT(MAX((Documentos!$A$2:$A$601=$A9)*(Documentos!$B$2:$B$601=B$4)*Documentos!$J$2:$J$601))-TODAY())&" d","OK"))))) -> OK | C9: =IF(OR($A9="",C$4=""),"",IF(COUNTIFS(Documentos!$A$2:$A$601,$A9,Documentos!$B$2:$B$601,C$4)=0,"—",IF(SUMPRODUCT(MAX((Documentos!$A$2:$A$601=$A9)*(Documentos!$B$2:$B$601=C$4)*Documentos!$J$2:$J$601))=0,"OK",IF(SUMPRODUCT(MAX((Documentos!$A$2:$A$601=$A9)*(Documentos!$B$2:$B$601=C$4)*Documentos!$J$2:$J$601))<TODAY(),"CAD",IF(SUMPRODUCT(MAX((Documentos!$A$2:$A$601=$A9)*(Documentos!$B$2:$B$601=C$4)*Documentos!$J$2:$J$601))-TODAY()<=Configuración!$B$2,(SUMPRODUCT(MAX((Documentos!$A$2:$A$601=$A9)*(Documentos!$B$2:$B$601=C$4)*Documentos!$J$2:$J$601))-TODAY())&" d","OK"))))) -> OK | D9: =IF(OR($A9="",D$4=""),"",IF(COUNTIFS(Documentos!$A$2:$A$601,$A9,Documentos!$B$2:$B$601,D$4)=0,"—",IF(SUMPRODUCT(MAX((Documentos!$A$2:$A$601=$A9)*(Documentos!$B$2:$B$601=D$4)*Documentos!$J$2:$J$601))=0,"OK",IF(SUMPRODUCT(MAX((Documentos!$A$2:$A$601=$A9)*(Documentos!$B$2:$B$601=D$4)*Documentos!$J$2:$J$601))<TODAY(),"CAD",IF(SUMPRODUCT(MAX((Documentos!$A$2:$A$601=$A9)*(Documentos!$B$2:$B$601=D$4)*Documentos!$J$2:$J$601))-TODAY()<=Configuración!$B$2,(SUMPRODUCT(MAX((Documentos!$A$2:$A$601=$A9)*(Documentos!$B$2:$B$601=D$4)*Documentos!$J$2:$J$601))-TODAY())&" d","OK"))))) -> OK | E9: =IF(OR($A9="",E$4=""),"",IF(COUNTIFS(Documentos!$A$2:$A$601,$A9,Documentos!$B$2:$B$601,E$4)=0,"—",IF(SUMPRODUCT(MAX((Documentos!$A$2:$A$601=$A9)*(Documentos!$B$2:$B$601=E$4)*Documentos!$J$2:$J$601))=0,"OK",IF(SUMPRODUCT(MAX((Documentos!$A$2:$A$601=$A9)*(Documentos!$B$2:$B$601=E$4)*Documentos!$J$2:$J$601))<TODAY(),"CAD",IF(SUMPRODUCT(MAX((Documentos!$A$2:$A$601=$A9)*(Documentos!$B$2:$B$601=E$4)*Documentos!$J$2:$J$601))-TODAY()<=Configuración!$B$2,(SUMPRODUCT(MAX((Documentos!$A$2:$A$601=$A9)*(Documentos!$B$2:$B$601=E$4)*Documentos!$J$2:$J$601))-TODAY())&" d","OK"))))) -> OK | F9: =IF(OR($A9="",F$4=""),"",IF(COUNTIFS(Documentos!$A$2:$A$601,$A9,Documentos!$B$2:$B$601,F$4)=0,"—",IF(SUMPRODUCT(MAX((Documentos!$A$2:$A$601=$A9)*(Documentos!$B$2:$B$601=F$4)*Documentos!$J$2:$J$601))=0,"OK",IF(SUMPRODUCT(MAX((Documentos!$A$2:$A$601=$A9)*(Documentos!$B$2:$B$601=F$4)*Documentos!$J$2:$J$601))<TODAY(),"CAD",IF(SUMPRODUCT(MAX((Documentos!$A$2:$A$601=$A9)*(Documentos!$B$2:$B$601=F$4)*Documentos!$J$2:$J$601))-TODAY()<=Configuración!$B$2,(SUMPRODUCT(MAX((Documentos!$A$2:$A$601=$A9)*(Documentos!$B$2:$B$601=F$4)*Documentos!$J$2:$J$601))-TODAY())&" d","OK"))))) -> OK | G9: =IF(OR($A9="",G$4=""),"",IF(COUNTIFS(Documentos!$A$2:$A$601,$A9,Documentos!$B$2:$B$601,G$4)=0,"—",IF(SUMPRODUCT(MAX((Documentos!$A$2:$A$601=$A9)*(Documentos!$B$2:$B$601=G$4)*Documentos!$J$2:$J$601))=0,"OK",IF(SUMPRODUCT(MAX((Documentos!$A$2:$A$601=$A9)*(Documentos!$B$2:$B$601=G$4)*Documentos!$J$2:$J$601))<TODAY(),"CAD",IF(SUMPRODUCT(MAX((Documentos!$A$2:$A$601=$A9)*(Documentos!$B$2:$B$601=G$4)*Documentos!$J$2:$J$601))-TODAY()<=Configuración!$B$2,(SUMPRODUCT(MAX((Documentos!$A$2:$A$601=$A9)*(Documentos!$B$2:$B$601=G$4)*Documentos!$J$2:$J$601))-TODAY())&" d","OK"))))) -> CAD | H9: =IF(OR($A9="",H$4=""),"",IF(COUNTIFS(Documentos!$A$2:$A$601,$A9,Documentos!$B$2:$B$601,H$4)=0,"—",IF(SUMPRODUCT(MAX((Documentos!$A$2:$A$601=$A9)*(Documentos!$B$2:$B$601=H$4)*Documentos!$J$2:$J$601))=0,"OK",IF(SUMPRODUCT(MAX((Documentos!$A$2:$A$601=$A9)*(Documentos!$B$2:$B$601=H$4)*Documentos!$J$2:$J$601))<TODAY(),"CAD",IF(SUMPRODUCT(MAX((Documentos!$A$2:$A$601=$A9)*(Documentos!$B$2:$B$601=H$4)*Documentos!$J$2:$J$601))-TODAY()<=Configuración!$B$2,(SUMPRODUCT(MAX((Documentos!$A$2:$A$601=$A9)*(Documentos!$B$2:$B$601=H$4)*Documentos!$J$2:$J$601))-TODAY())&" d","OK"))))) -> — | I9: =IF(OR($A9="",I$4=""),"",IF(COUNTIFS(Documentos!$A$2:$A$601,$A9,Documentos!$B$2:$B$601,I$4)=0,"—",IF(SUMPRODUCT(MAX((Documentos!$A$2:$A$601=$A9)*(Documentos!$B$2:$B$601=I$4)*Documentos!$J$2:$J$601))=0,"OK",IF(SUMPRODUCT(MAX((Documentos!$A$2:$A$601=$A9)*(Documentos!$B$2:$B$601=I$4)*Documentos!$J$2:$J$601))<TODAY(),"CAD",IF(SUMPRODUCT(MAX((Documentos!$A$2:$A$601=$A9)*(Documentos!$B$2:$B$601=I$4)*Documentos!$J$2:$J$601))-TODAY()<=Configuración!$B$2,(SUMPRODUCT(MAX((Documentos!$A$2:$A$601=$A9)*(Documentos!$B$2:$B$601=I$4)*Documentos!$J$2:$J$601))-TODAY())&" d","OK"))))) -> — | ... K9: =IF(OR($A9="",K$4=""),"",IF(COUNTIFS(Documentos!$A$2:$A$601,$A9,Documentos!$B$2:$B$601,K$4)=0,"—",IF(SUMPRODUCT(MAX((Documentos!$A$2:$A$601=$A9)*(Documentos!$B$2:$B$601=K$4)*Documentos!$J$2:$J$601))=0,"OK",IF(SUMPRODUCT(MAX((Documentos!$A$2:$A$601=$A9)*(Documentos!$B$2:$B$601=K$4)*Documentos!$J$2:$J$601))<TODAY(),"CAD",IF(SUMPRODUCT(MAX((Documentos!$A$2:$A$601=$A9)*(Documentos!$B$2:$B$601=K$4)*Documentos!$J$2:$J$601))-TODAY()<=Configuración!$B$2,(SUMPRODUCT(MAX((Documentos!$A$2:$A$601=$A9)*(Documentos!$B$2:$B$601=K$4)*Documentos!$J$2:$J$601))-TODAY())&" d","OK"))))) -> —
A10: =IF(Trabajadores!A7="","",Trabajadores!A7) | B10: =IF(OR($A10="",B$4=""),"",IF(COUNTIFS(Documentos!$A$2:$A$601,$A10,Documentos!$B$2:$B$601,B$4)=0,"—",IF(SUMPRODUCT(MAX((Documentos!$A$2:$A$601=$A10)*(Documentos!$B$2:$B$601=B$4)*Documentos!$J$2:$J$601))=0,"OK",IF(SUMPRODUCT(MAX((Documentos!$A$2:$A$601=$A10)*(Documentos!$B$2:$B$601=B$4)*Documentos!$J$2:$J$601))<TODAY(),"CAD",IF(SUMPRODUCT(MAX((Documentos!$A$2:$A$601=$A10)*(Documentos!$B$2:$B$601=B$4)*Documentos!$J$2:$J$601))-TODAY()<=Configuración!$B$2,(SUMPRODUCT(MAX((Documentos!$A$2:$A$601=$A10)*(Documentos!$B$2:$B$601=B$4)*Documentos!$J$2:$J$601))-TODAY())&" d","OK"))))) | C10: =IF(OR($A10="",C$4=""),"",IF(COUNTIFS(Documentos!$A$2:$A$601,$A10,Documentos!$B$2:$B$601,C$4)=0,"—",IF(SUMPRODUCT(MAX((Documentos!$A$2:$A$601=$A10)*(Documentos!$B$2:$B$601=C$4)*Documentos!$J$2:$J$601))=0,"OK",IF(SUMPRODUCT(MAX((Documentos!$A$2:$A$601=$A10)*(Documentos!$B$2:$B$601=C$4)*Documentos!$J$2:$J$601))<TODAY(),"CAD",IF(SUMPRODUCT(MAX((Documentos!$A$2:$A$601=$A10)*(Documentos!$B$2:$B$601=C$4)*Documentos!$J$2:$J$601))-TODAY()<=Configuración!$B$2,(SUMPRODUCT(MAX((Documentos!$A$2:$A$601=$A10)*(Documentos!$B$2:$B$601=C$4)*Documentos!$J$2:$J$601))-TODAY())&" d","OK"))))) | D10: =IF(OR($A10="",D$4=""),"",IF(COUNTIFS(Documentos!$A$2:$A$601,$A10,Documentos!$B$2:$B$601,D$4)=0,"—",IF(SUMPRODUCT(MAX((Documentos!$A$2:$A$601=$A10)*(Documentos!$B$2:$B$601=D$4)*Documentos!$J$2:$J$601))=0,"OK",IF(SUMPRODUCT(MAX((Documentos!$A$2:$A$601=$A10)*(Documentos!$B$2:$B$601=D$4)*Documentos!$J$2:$J$601))<TODAY(),"CAD",IF(SUMPRODUCT(MAX((Documentos!$A$2:$A$601=$A10)*(Documentos!$B$2:$B$601=D$4)*Documentos!$J$2:$J$601))-TODAY()<=Configuración!$B$2,(SUMPRODUCT(MAX((Documentos!$A$2:$A$601=$A10)*(Documentos!$B$2:$B$601=D$4)*Documentos!$J$2:$J$601))-TODAY())&" d","OK"))))) | E10: =IF(OR($A10="",E$4=""),"",IF(COUNTIFS(Documentos!$A$2:$A$601,$A10,Documentos!$B$2:$B$601,E$4)=0,"—",IF(SUMPRODUCT(MAX((Documentos!$A$2:$A$601=$A10)*(Documentos!$B$2:$B$601=E$4)*Documentos!$J$2:$J$601))=0,"OK",IF(SUMPRODUCT(MAX((Documentos!$A$2:$A$601=$A10)*(Documentos!$B$2:$B$601=E$4)*Documentos!$J$2:$J$601))<TODAY(),"CAD",IF(SUMPRODUCT(MAX((Documentos!$A$2:$A$601=$A10)*(Documentos!$B$2:$B$601=E$4)*Documentos!$J$2:$J$601))-TODAY()<=Configuración!$B$2,(SUMPRODUCT(MAX((Documentos!$A$2:$A$601=$A10)*(Documentos!$B$2:$B$601=E$4)*Documentos!$J$2:$J$601))-TODAY())&" d","OK"))))) | F10: =IF(OR($A10="",F$4=""),"",IF(COUNTIFS(Documentos!$A$2:$A$601,$A10,Documentos!$B$2:$B$601,F$4)=0,"—",IF(SUMPRODUCT(MAX((Documentos!$A$2:$A$601=$A10)*(Documentos!$B$2:$B$601=F$4)*Documentos!$J$2:$J$601))=0,"OK",IF(SUMPRODUCT(MAX((Documentos!$A$2:$A$601=$A10)*(Documentos!$B$2:$B$601=F$4)*Documentos!$J$2:$J$601))<TODAY(),"CAD",IF(SUMPRODUCT(MAX((Documentos!$A$2:$A$601=$A10)*(Documentos!$B$2:$B$601=F$4)*Documentos!$J$2:$J$601))-TODAY()<=Configuración!$B$2,(SUMPRODUCT(MAX((Documentos!$A$2:$A$601=$A10)*(Documentos!$B$2:$B$601=F$4)*Documentos!$J$2:$J$601))-TODAY())&" d","OK"))))) | G10: =IF(OR($A10="",G$4=""),"",IF(COUNTIFS(Documentos!$A$2:$A$601,$A10,Documentos!$B$2:$B$601,G$4)=0,"—",IF(SUMPRODUCT(MAX((Documentos!$A$2:$A$601=$A10)*(Documentos!$B$2:$B$601=G$4)*Documentos!$J$2:$J$601))=0,"OK",IF(SUMPRODUCT(MAX((Documentos!$A$2:$A$601=$A10)*(Documentos!$B$2:$B$601=G$4)*Documentos!$J$2:$J$601))<TODAY(),"CAD",IF(SUMPRODUCT(MAX((Documentos!$A$2:$A$601=$A10)*(Documentos!$B$2:$B$601=G$4)*Documentos!$J$2:$J$601))-TODAY()<=Configuración!$B$2,(SUMPRODUCT(MAX((Documentos!$A$2:$A$601=$A10)*(Documentos!$B$2:$B$601=G$4)*Documentos!$J$2:$J$601))-TODAY())&" d","OK"))))) | H10: =IF(OR($A10="",H$4=""),"",IF(COUNTIFS(Documentos!$A$2:$A$601,$A10,Documentos!$B$2:$B$601,H$4)=0,"—",IF(SUMPRODUCT(MAX((Documentos!$A$2:$A$601=$A10)*(Documentos!$B$2:$B$601=H$4)*Documentos!$J$2:$J$601))=0,"OK",IF(SUMPRODUCT(MAX((Documentos!$A$2:$A$601=$A10)*(Documentos!$B$2:$B$601=H$4)*Documentos!$J$2:$J$601))<TODAY(),"CAD",IF(SUMPRODUCT(MAX((Documentos!$A$2:$A$601=$A10)*(Documentos!$B$2:$B$601=H$4)*Documentos!$J$2:$J$601))-TODAY()<=Configuración!$B$2,(SUMPRODUCT(MAX((Documentos!$A$2:$A$601=$A10)*(Documentos!$B$2:$B$601=H$4)*Documentos!$J$2:$J$601))-TODAY())&" d","OK"))))) | I10: =IF(OR($A10="",I$4=""),"",IF(COUNTIFS(Documentos!$A$2:$A$601,$A10,Documentos!$B$2:$B$601,I$4)=0,"—",IF(SUMPRODUCT(MAX((Documentos!$A$2:$A$601=$A10)*(Documentos!$B$2:$B$601=I$4)*Documentos!$J$2:$J$601))=0,"OK",IF(SUMPRODUCT(MAX((Documentos!$A$2:$A$601=$A10)*(Documentos!$B$2:$B$601=I$4)*Documentos!$J$2:$J$601))<TODAY(),"CAD",IF(SUMPRODUCT(MAX((Documentos!$A$2:$A$601=$A10)*(Documentos!$B$2:$B$601=I$4)*Documentos!$J$2:$J$601))-TODAY()<=Configuración!$B$2,(SUMPRODUCT(MAX((Documentos!$A$2:$A$601=$A10)*(Documentos!$B$2:$B$601=I$4)*Documentos!$J$2:$J$601))-TODAY())&" d","OK"))))) | ... K10: =IF(OR($A10="",K$4=""),"",IF(COUNTIFS(Documentos!$A$2:$A$601,$A10,Documentos!$B$2:$B$601,K$4)=0,"—",IF(SUMPRODUCT(MAX((Documentos!$A$2:$A$601=$A10)*(Documentos!$B$2:$B$601=K$4)*Documentos!$J$2:$J$601))=0,"OK",IF(SUMPRODUCT(MAX((Documentos!$A$2:$A$601=$A10)*(Documentos!$B$2:$B$601=K$4)*Documentos!$J$2:$J$601))<TODAY(),"CAD",IF(SUMPRODUCT(MAX((Documentos!$A$2:$A$601=$A10)*(Documentos!$B$2:$B$601=K$4)*Documentos!$J$2:$J$601))-TODAY()<=Configuración!$B$2,(SUMPRODUCT(MAX((Documentos!$A$2:$A$601=$A10)*(Documentos!$B$2:$B$601=K$4)*Documentos!$J$2:$J$601))-TODAY())&" d","OK")))))
A11: =IF(Trabajadores!A8="","",Trabajadores!A8) | B11: =IF(OR($A11="",B$4=""),"",IF(COUNTIFS(Documentos!$A$2:$A$601,$A11,Documentos!$B$2:$B$601,B$4)=0,"—",IF(SUMPRODUCT(MAX((Documentos!$A$2:$A$601=$A11)*(Documentos!$B$2:$B$601=B$4)*Documentos!$J$2:$J$601))=0,"OK",IF(SUMPRODUCT(MAX((Documentos!$A$2:$A$601=$A11)*(Documentos!$B$2:$B$601=B$4)*Documentos!$J$2:$J$601))<TODAY(),"CAD",IF(SUMPRODUCT(MAX((Documentos!$A$2:$A$601=$A11)*(Documentos!$B$2:$B$601=B$4)*Documentos!$J$2:$J$601))-TODAY()<=Configuración!$B$2,(SUMPRODUCT(MAX((Documentos!$A$2:$A$601=$A11)*(Documentos!$B$2:$B$601=B$4)*Documentos!$J$2:$J$601))-TODAY())&" d","OK"))))) | C11: =IF(OR($A11="",C$4=""),"",IF(COUNTIFS(Documentos!$A$2:$A$601,$A11,Documentos!$B$2:$B$601,C$4)=0,"—",IF(SUMPRODUCT(MAX((Documentos!$A$2:$A$601=$A11)*(Documentos!$B$2:$B$601=C$4)*Documentos!$J$2:$J$601))=0,"OK",IF(SUMPRODUCT(MAX((Documentos!$A$2:$A$601=$A11)*(Documentos!$B$2:$B$601=C$4)*Documentos!$J$2:$J$601))<TODAY(),"CAD",IF(SUMPRODUCT(MAX((Documentos!$A$2:$A$601=$A11)*(Documentos!$B$2:$B$601=C$4)*Documentos!$J$2:$J$601))-TODAY()<=Configuración!$B$2,(SUMPRODUCT(MAX((Documentos!$A$2:$A$601=$A11)*(Documentos!$B$2:$B$601=C$4)*Documentos!$J$2:$J$601))-TODAY())&" d","OK"))))) | D11: =IF(OR($A11="",D$4=""),"",IF(COUNTIFS(Documentos!$A$2:$A$601,$A11,Documentos!$B$2:$B$601,D$4)=0,"—",IF(SUMPRODUCT(MAX((Documentos!$A$2:$A$601=$A11)*(Documentos!$B$2:$B$601=D$4)*Documentos!$J$2:$J$601))=0,"OK",IF(SUMPRODUCT(MAX((Documentos!$A$2:$A$601=$A11)*(Documentos!$B$2:$B$601=D$4)*Documentos!$J$2:$J$601))<TODAY(),"CAD",IF(SUMPRODUCT(MAX((Documentos!$A$2:$A$601=$A11)*(Documentos!$B$2:$B$601=D$4)*Documentos!$J$2:$J$601))-TODAY()<=Configuración!$B$2,(SUMPRODUCT(MAX((Documentos!$A$2:$A$601=$A11)*(Documentos!$B$2:$B$601=D$4)*Documentos!$J$2:$J$601))-TODAY())&" d","OK"))))) | E11: =IF(OR($A11="",E$4=""),"",IF(COUNTIFS(Documentos!$A$2:$A$601,$A11,Documentos!$B$2:$B$601,E$4)=0,"—",IF(SUMPRODUCT(MAX((Documentos!$A$2:$A$601=$A11)*(Documentos!$B$2:$B$601=E$4)*Documentos!$J$2:$J$601))=0,"OK",IF(SUMPRODUCT(MAX((Documentos!$A$2:$A$601=$A11)*(Documentos!$B$2:$B$601=E$4)*Documentos!$J$2:$J$601))<TODAY(),"CAD",IF(SUMPRODUCT(MAX((Documentos!$A$2:$A$601=$A11)*(Documentos!$B$2:$B$601=E$4)*Documentos!$J$2:$J$601))-TODAY()<=Configuración!$B$2,(SUMPRODUCT(MAX((Documentos!$A$2:$A$601=$A11)*(Documentos!$B$2:$B$601=E$4)*Documentos!$J$2:$J$601))-TODAY())&" d","OK"))))) | F11: =IF(OR($A11="",F$4=""),"",IF(COUNTIFS(Documentos!$A$2:$A$601,$A11,Documentos!$B$2:$B$601,F$4)=0,"—",IF(SUMPRODUCT(MAX((Documentos!$A$2:$A$601=$A11)*(Documentos!$B$2:$B$601=F$4)*Documentos!$J$2:$J$601))=0,"OK",IF(SUMPRODUCT(MAX((Documentos!$A$2:$A$601=$A11)*(Documentos!$B$2:$B$601=F$4)*Documentos!$J$2:$J$601))<TODAY(),"CAD",IF(SUMPRODUCT(MAX((Documentos!$A$2:$A$601=$A11)*(Documentos!$B$2:$B$601=F$4)*Documentos!$J$2:$J$601))-TODAY()<=Configuración!$B$2,(SUMPRODUCT(MAX((Documentos!$A$2:$A$601=$A11)*(Documentos!$B$2:$B$601=F$4)*Documentos!$J$2:$J$601))-TODAY())&" d","OK"))))) | G11: =IF(OR($A11="",G$4=""),"",IF(COUNTIFS(Documentos!$A$2:$A$601,$A11,Documentos!$B$2:$B$601,G$4)=0,"—",IF(SUMPRODUCT(MAX((Documentos!$A$2:$A$601=$A11)*(Documentos!$B$2:$B$601=G$4)*Documentos!$J$2:$J$601))=0,"OK",IF(SUMPRODUCT(MAX((Documentos!$A$2:$A$601=$A11)*(Documentos!$B$2:$B$601=G$4)*Documentos!$J$2:$J$601))<TODAY(),"CAD",IF(SUMPRODUCT(MAX((Documentos!$A$2:$A$601=$A11)*(Documentos!$B$2:$B$601=G$4)*Documentos!$J$2:$J$601))-TODAY()<=Configuración!$B$2,(SUMPRODUCT(MAX((Documentos!$A$2:$A$601=$A11)*(Documentos!$B$2:$B$601=G$4)*Documentos!$J$2:$J$601))-TODAY())&" d","OK"))))) | H11: =IF(OR($A11="",H$4=""),"",IF(COUNTIFS(Documentos!$A$2:$A$601,$A11,Documentos!$B$2:$B$601,H$4)=0,"—",IF(SUMPRODUCT(MAX((Documentos!$A$2:$A$601=$A11)*(Documentos!$B$2:$B$601=H$4)*Documentos!$J$2:$J$601))=0,"OK",IF(SUMPRODUCT(MAX((Documentos!$A$2:$A$601=$A11)*(Documentos!$B$2:$B$601=H$4)*Documentos!$J$2:$J$601))<TODAY(),"CAD",IF(SUMPRODUCT(MAX((Documentos!$A$2:$A$601=$A11)*(Documentos!$B$2:$B$601=H$4)*Documentos!$J$2:$J$601))-TODAY()<=Configuración!$B$2,(SUMPRODUCT(MAX((Documentos!$A$2:$A$601=$A11)*(Documentos!$B$2:$B$601=H$4)*Documentos!$J$2:$J$601))-TODAY())&" d","OK"))))) | I11: =IF(OR($A11="",I$4=""),"",IF(COUNTIFS(Documentos!$A$2:$A$601,$A11,Documentos!$B$2:$B$601,I$4)=0,"—",IF(SUMPRODUCT(MAX((Documentos!$A$2:$A$601=$A11)*(Documentos!$B$2:$B$601=I$4)*Documentos!$J$2:$J$601))=0,"OK",IF(SUMPRODUCT(MAX((Documentos!$A$2:$A$601=$A11)*(Documentos!$B$2:$B$601=I$4)*Documentos!$J$2:$J$601))<TODAY(),"CAD",IF(SUMPRODUCT(MAX((Documentos!$A$2:$A$601=$A11)*(Documentos!$B$2:$B$601=I$4)*Documentos!$J$2:$J$601))-TODAY()<=Configuración!$B$2,(SUMPRODUCT(MAX((Documentos!$A$2:$A$601=$A11)*(Documentos!$B$2:$B$601=I$4)*Documentos!$J$2:$J$601))-TODAY())&" d","OK"))))) | ... K11: =IF(OR($A11="",K$4=""),"",IF(COUNTIFS(Documentos!$A$2:$A$601,$A11,Documentos!$B$2:$B$601,K$4)=0,"—",IF(SUMPRODUCT(MAX((Documentos!$A$2:$A$601=$A11)*(Documentos!$B$2:$B$601=K$4)*Documentos!$J$2:$J$601))=0,"OK",IF(SUMPRODUCT(MAX((Documentos!$A$2:$A$601=$A11)*(Documentos!$B$2:$B$601=K$4)*Documentos!$J$2:$J$601))<TODAY(),"CAD",IF(SUMPRODUCT(MAX((Documentos!$A$2:$A$601=$A11)*(Documentos!$B$2:$B$601=K$4)*Documentos!$J$2:$J$601))-TODAY()<=Configuración!$B$2,(SUMPRODUCT(MAX((Documentos!$A$2:$A$601=$A11)*(Documentos!$B$2:$B$601=K$4)*Documentos!$J$2:$J$601))-TODAY())&" d","OK")))))
